Package: cliqueMS Version: 1.18.2 Maintainer: Oriol Senan Campos MaintainerEmail: oriol.senan at praenoscere.com git_url: https://git.bioconductor.org/packages/cliqueMS git_branch: RELEASE_3_19 git_last_commit: 60bc0a1 git_last_commit_date: 2024-08-09 07:55:12 -0400 (Fri, 09 Aug 2024)