Package: clipper Version: 1.44.0 Command: rm -rf clipper.buildbin-libdir && mkdir clipper.buildbin-libdir && F:\biocbuild\bbs-3.19-bioc\R\bin\R.exe CMD INSTALL --build --library=clipper.buildbin-libdir clipper_1.44.0.tar.gz StartedAt: 2024-06-27 08:00:08 -0400 (Thu, 27 Jun 2024) EndedAt: 2024-06-27 08:01:04 -0400 (Thu, 27 Jun 2024) EllapsedTime: 55.5 seconds RetCode: 0 Status: OK PackageFile: clipper_1.44.0.zip PackageFileSize: 721 KiB