Package: clipper Version: 1.44.0 Command: rm -rf clipper.buildbin-libdir && mkdir clipper.buildbin-libdir && /Users/biocbuild/BBS/utils/build-universal.sh clipper_1.44.0.tar.gz /Library/Frameworks/R.framework/Resources/bin/R clipper.buildbin-libdir StartedAt: 2024-10-17 15:52:05 -0400 (Thu, 17 Oct 2024) EndedAt: 2024-10-17 15:53:37 -0400 (Thu, 17 Oct 2024) EllapsedTime: 91.6 seconds RetCode: 0 Status: OK PackageFile: clipper_1.44.0.tgz PackageFileSize: 714 KiB