Package: clipper Version: 1.44.0 Command: /home/biocbuild/R/R-beta-2024-04-15_r86425/bin/R CMD check --install=check:clipper.install-out.txt --library=/home/biocbuild/R/R-beta-2024-04-15_r86425/site-library --no-vignettes --timings clipper_1.44.0.tar.gz StartedAt: 2024-05-09 05:53:35 -0000 (Thu, 09 May 2024) EndedAt: 2024-05-09 06:00:04 -0000 (Thu, 09 May 2024) EllapsedTime: 389.7 seconds RetCode: 0 Status: OK CheckDir: clipper.Rcheck Warnings: 0