Package: clipper Version: 1.44.0 Command: /home/biocbuild/R/R-beta-2024-04-15_r86425/bin/R CMD build --keep-empty-dirs --no-resave-data clipper StartedAt: 2024-05-08 23:20:59 -0000 (Wed, 08 May 2024) EndedAt: 2024-05-08 23:22:36 -0000 (Wed, 08 May 2024) EllapsedTime: 97.1 seconds RetCode: 0 Status: OK PackageFile: clipper_1.44.0.tar.gz PackageFileSize: 970 KiB