Package: clipper Version: 1.44.0 Command: rm -rf clipper.buildbin-libdir && mkdir clipper.buildbin-libdir && /Users/biocbuild/BBS/utils/build-universal.sh clipper_1.44.0.tar.gz /Library/Frameworks/R.framework/Resources/bin/R clipper.buildbin-libdir StartedAt: 2024-10-18 17:49:03 -0400 (Fri, 18 Oct 2024) EndedAt: 2024-10-18 17:49:59 -0400 (Fri, 18 Oct 2024) EllapsedTime: 56.5 seconds RetCode: 0 Status: OK PackageFile: clipper_1.44.0.tgz PackageFileSize: 714.1 KiB