Package: clippda Version: 1.54.0 Command: chmod a+r clippda -R && E:\biocbuild\bbs-3.19-bioc\R\bin\R.exe CMD build --keep-empty-dirs --no-resave-data clippda StartedAt: 2024-10-16 18:14:31 -0400 (Wed, 16 Oct 2024) EndedAt: 2024-10-16 18:16:17 -0400 (Wed, 16 Oct 2024) EllapsedTime: 106.2 seconds RetCode: 0 Status: OK PackageFile: clippda_1.54.0.tar.gz PackageFileSize: 1.342 MiB