Package: clippda Version: 1.54.0 Command: F:\biocbuild\bbs-3.19-bioc\R\bin\R.exe CMD check --no-multiarch --install=check:clippda.install-out.txt --library=F:\biocbuild\bbs-3.19-bioc\R\library --no-vignettes --timings clippda_1.54.0.tar.gz StartedAt: 2024-06-27 00:07:00 -0400 (Thu, 27 Jun 2024) EndedAt: 2024-06-27 00:11:17 -0400 (Thu, 27 Jun 2024) EllapsedTime: 257.3 seconds RetCode: 0 Status: OK CheckDir: clippda.Rcheck Warnings: 0