Package: clippda Version: 1.54.0 Command: rm -rf clippda.buildbin-libdir && mkdir clippda.buildbin-libdir && F:\biocbuild\bbs-3.19-bioc\R\bin\R.exe CMD INSTALL --build --library=clippda.buildbin-libdir clippda_1.54.0.tar.gz StartedAt: 2024-06-27 08:00:06 -0400 (Thu, 27 Jun 2024) EndedAt: 2024-06-27 08:00:24 -0400 (Thu, 27 Jun 2024) EllapsedTime: 17.6 seconds RetCode: 0 Status: OK PackageFile: clippda_1.54.0.zip PackageFileSize: 1.592 MiB