Package: clippda Version: 1.54.0 Command: /home/biocbuild/bbs-3.19-bioc/R/bin/R CMD INSTALL clippda StartedAt: 2024-10-16 16:18:10 -0400 (Wed, 16 Oct 2024) EndedAt: 2024-10-16 16:18:16 -0400 (Wed, 16 Oct 2024) EllapsedTime: 6.2 seconds RetCode: 0 Status: OK