Package: clippda Version: 1.54.0 Command: /Library/Frameworks/R.framework/Resources/bin/R CMD build --keep-empty-dirs --no-resave-data clippda StartedAt: 2024-06-09 16:11:57 -0400 (Sun, 09 Jun 2024) EndedAt: 2024-06-09 16:13:23 -0400 (Sun, 09 Jun 2024) EllapsedTime: 85.2 seconds RetCode: 0 Status: OK PackageFile: clippda_1.54.0.tar.gz PackageFileSize: 1.497 MiB