Package: clippda Version: 1.54.0 Command: /home/biocbuild/R/R-beta-2024-04-15_r86425/bin/R CMD check --install=check:clippda.install-out.txt --library=/home/biocbuild/R/R-beta-2024-04-15_r86425/site-library --no-vignettes --timings clippda_1.54.0.tar.gz StartedAt: 2024-05-09 05:53:09 -0000 (Thu, 09 May 2024) EndedAt: 2024-05-09 05:56:00 -0000 (Thu, 09 May 2024) EllapsedTime: 171.3 seconds RetCode: 0 Status: OK CheckDir: clippda.Rcheck Warnings: 0