Package: clippda Version: 1.54.0 Command: /Library/Frameworks/R.framework/Resources/bin/R CMD build --keep-empty-dirs --no-resave-data clippda StartedAt: 2024-06-09 19:32:55 -0400 (Sun, 09 Jun 2024) EndedAt: 2024-06-09 19:34:30 -0400 (Sun, 09 Jun 2024) EllapsedTime: 94.3 seconds RetCode: 0 Status: OK PackageFile: clippda_1.54.0.tar.gz PackageFileSize: 1.487 MiB