Package: clippda Version: 1.54.0 Command: rm -rf clippda.buildbin-libdir && mkdir clippda.buildbin-libdir && /Users/biocbuild/BBS/utils/build-universal.sh clippda_1.54.0.tar.gz /Library/Frameworks/R.framework/Resources/bin/R clippda.buildbin-libdir StartedAt: 2024-06-11 10:36:43 -0400 (Tue, 11 Jun 2024) EndedAt: 2024-06-11 10:36:59 -0400 (Tue, 11 Jun 2024) EllapsedTime: 15.4 seconds RetCode: 0 Status: OK PackageFile: clippda_1.54.0.tgz PackageFileSize: 1.738 MiB