Package: clippda Version: 1.54.0 Command: rm -rf clippda.buildbin-libdir && mkdir clippda.buildbin-libdir && /Users/biocbuild/BBS/utils/build-universal.sh clippda_1.54.0.tar.gz /Library/Frameworks/R.framework/Resources/bin/R clippda.buildbin-libdir StartedAt: 2024-10-18 17:48:57 -0400 (Fri, 18 Oct 2024) EndedAt: 2024-10-18 17:49:08 -0400 (Fri, 18 Oct 2024) EllapsedTime: 11.5 seconds RetCode: 0 Status: OK PackageFile: clippda_1.54.0.tgz PackageFileSize: 1.742 MiB