Package: cliProfiler Version: 1.10.0 Command: E:\biocbuild\bbs-3.19-bioc\R\bin\R.exe CMD check --no-multiarch --install=check:cliProfiler.install-out.txt --library=E:\biocbuild\bbs-3.19-bioc\R\library --no-vignettes --timings cliProfiler_1.10.0.tar.gz StartedAt: 2024-10-17 00:03:01 -0400 (Thu, 17 Oct 2024) EndedAt: 2024-10-17 00:07:43 -0400 (Thu, 17 Oct 2024) EllapsedTime: 281.5 seconds RetCode: 0 Status: OK CheckDir: cliProfiler.Rcheck Warnings: 0