Package: cliProfiler Version: 1.10.0 Command: rm -rf cliProfiler.buildbin-libdir && mkdir cliProfiler.buildbin-libdir && E:\biocbuild\bbs-3.19-bioc\R\bin\R.exe CMD INSTALL --build --library=cliProfiler.buildbin-libdir cliProfiler_1.10.0.tar.gz StartedAt: 2024-10-17 07:33:06 -0400 (Thu, 17 Oct 2024) EndedAt: 2024-10-17 07:33:46 -0400 (Thu, 17 Oct 2024) EllapsedTime: 40.2 seconds RetCode: 0 Status: OK PackageFile: cliProfiler_1.10.0.zip PackageFileSize: 692.1 KiB