Package: cliProfiler Version: 1.10.0 Command: /home/biocbuild/bbs-3.19-bioc/R/bin/R CMD check --install=check:cliProfiler.install-out.txt --library=/home/biocbuild/bbs-3.19-bioc/R/site-library --timings cliProfiler_1.10.0.tar.gz StartedAt: 2024-10-16 22:49:20 -0400 (Wed, 16 Oct 2024) EndedAt: 2024-10-16 22:54:09 -0400 (Wed, 16 Oct 2024) EllapsedTime: 289.6 seconds RetCode: 0 Status: OK CheckDir: cliProfiler.Rcheck Warnings: 0