Package: cliProfiler Version: 1.10.0 Command: /home/biocbuild/bbs-3.19-bioc/R/bin/R CMD build --keep-empty-dirs --no-resave-data cliProfiler StartedAt: 2024-10-16 17:48:43 -0400 (Wed, 16 Oct 2024) EndedAt: 2024-10-16 17:49:48 -0400 (Wed, 16 Oct 2024) EllapsedTime: 65.1 seconds RetCode: 0 Status: OK PackageFile: cliProfiler_1.10.0.tar.gz PackageFileSize: 1.136 MiB