Package: cliProfiler Version: 1.10.0 Command: /Library/Frameworks/R.framework/Resources/bin/R CMD INSTALL cliProfiler StartedAt: 2024-06-09 15:49:40 -0400 (Sun, 09 Jun 2024) EndedAt: 2024-06-09 15:50:31 -0400 (Sun, 09 Jun 2024) EllapsedTime: 51.0 seconds RetCode: 0 Status: OK