Package: cliProfiler Version: 1.10.0 Command: /Library/Frameworks/R.framework/Resources/bin/R CMD INSTALL cliProfiler StartedAt: 2024-10-16 16:36:41 -0400 (Wed, 16 Oct 2024) EndedAt: 2024-10-16 16:37:22 -0400 (Wed, 16 Oct 2024) EllapsedTime: 40.4 seconds RetCode: 0 Status: OK