Package: cliProfiler Version: 1.10.0 Command: /Library/Frameworks/R.framework/Resources/bin/R CMD check --install=check:cliProfiler.install-out.txt --library=/Library/Frameworks/R.framework/Resources/library --no-vignettes --timings cliProfiler_1.10.0.tar.gz StartedAt: 2024-10-17 16:26:35 -0400 (Thu, 17 Oct 2024) EndedAt: 2024-10-17 16:32:00 -0400 (Thu, 17 Oct 2024) EllapsedTime: 324.9 seconds RetCode: 0 Status: OK CheckDir: cliProfiler.Rcheck Warnings: 0