Package: cliProfiler Version: 1.10.0 Command: /Library/Frameworks/R.framework/Resources/bin/R CMD build --keep-empty-dirs --no-resave-data cliProfiler StartedAt: 2024-10-16 21:41:59 -0400 (Wed, 16 Oct 2024) EndedAt: 2024-10-16 21:43:23 -0400 (Wed, 16 Oct 2024) EllapsedTime: 83.7 seconds RetCode: 0 Status: OK PackageFile: cliProfiler_1.10.0.tar.gz PackageFileSize: 1.282 MiB