Package: clevRvis Version: 1.4.0 Command: chmod a+r clevRvis -R && E:\biocbuild\bbs-3.19-bioc\R\bin\R.exe CMD build --keep-empty-dirs --no-resave-data clevRvis StartedAt: 2024-10-16 18:14:29 -0400 (Wed, 16 Oct 2024) EndedAt: 2024-10-16 18:15:09 -0400 (Wed, 16 Oct 2024) EllapsedTime: 39.8 seconds RetCode: 0 Status: OK PackageFile: clevRvis_1.4.0.tar.gz PackageFileSize: 1.955 MiB