Package: clevRvis Version: 1.4.0 Command: /home/biocbuild/bbs-3.19-bioc/R/bin/R CMD check --install=check:clevRvis.install-out.txt --library=/home/biocbuild/bbs-3.19-bioc/R/site-library --timings clevRvis_1.4.0.tar.gz StartedAt: 2024-10-16 22:48:07 -0400 (Wed, 16 Oct 2024) EndedAt: 2024-10-16 22:49:16 -0400 (Wed, 16 Oct 2024) EllapsedTime: 69.1 seconds RetCode: 0 Status: OK CheckDir: clevRvis.Rcheck Warnings: 0