Package: clevRvis Version: 1.4.0 Command: /Library/Frameworks/R.framework/Resources/bin/R CMD build --keep-empty-dirs --no-resave-data clevRvis StartedAt: 2024-06-09 16:11:57 -0400 (Sun, 09 Jun 2024) EndedAt: 2024-06-09 16:12:24 -0400 (Sun, 09 Jun 2024) EllapsedTime: 27.0 seconds RetCode: 0 Status: OK PackageFile: clevRvis_1.4.0.tar.gz PackageFileSize: 2.373 MiB