Package: clevRvis Version: 1.4.0 Command: /home/biocbuild/R/R-beta-2024-04-15_r86425/bin/R CMD build --keep-empty-dirs --no-resave-data clevRvis StartedAt: 2024-05-08 23:20:36 -0000 (Wed, 08 May 2024) EndedAt: 2024-05-08 23:21:09 -0000 (Wed, 08 May 2024) EllapsedTime: 33.0 seconds RetCode: 0 Status: OK PackageFile: clevRvis_1.4.0.tar.gz PackageFileSize: 2.033 MiB