Package: clevRvis Version: 1.4.0 Command: rm -rf clevRvis.buildbin-libdir && mkdir clevRvis.buildbin-libdir && /Users/biocbuild/BBS/utils/build-universal.sh clevRvis_1.4.0.tar.gz /Library/Frameworks/R.framework/Resources/bin/R clevRvis.buildbin-libdir StartedAt: 2024-10-18 17:48:52 -0400 (Fri, 18 Oct 2024) EndedAt: 2024-10-18 17:49:07 -0400 (Fri, 18 Oct 2024) EllapsedTime: 14.8 seconds RetCode: 0 Status: OK PackageFile: clevRvis_1.4.0.tgz PackageFileSize: 2.657 MiB