Package: cleaver Version: 1.42.0 Command: rm -rf cleaver.buildbin-libdir && mkdir cleaver.buildbin-libdir && E:\biocbuild\bbs-3.19-bioc\R\bin\R.exe CMD INSTALL --build --library=cleaver.buildbin-libdir cleaver_1.42.0.tar.gz StartedAt: 2024-10-17 07:32:48 -0400 (Thu, 17 Oct 2024) EndedAt: 2024-10-17 07:33:04 -0400 (Thu, 17 Oct 2024) EllapsedTime: 16.1 seconds RetCode: 0 Status: OK PackageFile: cleaver_1.42.0.zip PackageFileSize: 361.7 KiB