Package: cleaver Version: 1.42.0 Command: /home/biocbuild/bbs-3.19-bioc/R/bin/R CMD build --keep-empty-dirs --no-resave-data cleaver StartedAt: 2024-10-16 17:47:41 -0400 (Wed, 16 Oct 2024) EndedAt: 2024-10-16 17:47:59 -0400 (Wed, 16 Oct 2024) EllapsedTime: 18.0 seconds RetCode: 0 Status: OK PackageFile: cleaver_1.42.0.tar.gz PackageFileSize: 339.1 KiB