Package: cleaver Version: 1.42.0 Command: /Library/Frameworks/R.framework/Resources/bin/R CMD build --keep-empty-dirs --no-resave-data cleaver StartedAt: 2024-10-16 17:58:41 -0400 (Wed, 16 Oct 2024) EndedAt: 2024-10-16 18:15:05 -0400 (Wed, 16 Oct 2024) EllapsedTime: 983.2 seconds RetCode: 1 Status: ERROR PackageFile: None PackageFileSize: NA