Package: cleanUpdTSeq Version: 1.42.0 Command: chmod a+r cleanUpdTSeq -R && F:\biocbuild\bbs-3.19-bioc\R\bin\R.exe CMD build --keep-empty-dirs --no-resave-data cleanUpdTSeq StartedAt: 2024-06-26 17:49:55 -0400 (Wed, 26 Jun 2024) EndedAt: 2024-06-26 17:51:27 -0400 (Wed, 26 Jun 2024) EllapsedTime: 92.0 seconds RetCode: 0 Status: OK PackageFile: cleanUpdTSeq_1.42.0.tar.gz PackageFileSize: 4.008 MiB