Package: cleanUpdTSeq Version: 1.42.0 Command: /Library/Frameworks/R.framework/Resources/bin/R CMD INSTALL cleanUpdTSeq StartedAt: 2024-10-16 15:40:50 -0400 (Wed, 16 Oct 2024) EndedAt: 2024-10-16 15:43:24 -0400 (Wed, 16 Oct 2024) EllapsedTime: 154.1 seconds RetCode: 0 Status: OK