Package: cleanUpdTSeq Version: 1.42.0 Command: /Library/Frameworks/R.framework/Resources/bin/R CMD check --install=check:cleanUpdTSeq.install-out.txt --library=/Library/Frameworks/R.framework/Resources/library --no-vignettes --timings cleanUpdTSeq_1.42.0.tar.gz StartedAt: 2024-10-17 02:47:43 -0400 (Thu, 17 Oct 2024) EndedAt: 2024-10-17 02:59:08 -0400 (Thu, 17 Oct 2024) EllapsedTime: 684.9 seconds RetCode: 0 Status: OK CheckDir: cleanUpdTSeq.Rcheck Warnings: 0