Package: cleanUpdTSeq Version: 1.42.0 Command: rm -rf cleanUpdTSeq.buildbin-libdir && mkdir cleanUpdTSeq.buildbin-libdir && /Users/biocbuild/BBS/utils/build-universal.sh cleanUpdTSeq_1.42.0.tar.gz /Library/Frameworks/R.framework/Resources/bin/R cleanUpdTSeq.buildbin-libdir StartedAt: 2024-10-17 15:51:56 -0400 (Thu, 17 Oct 2024) EndedAt: 2024-10-17 15:54:46 -0400 (Thu, 17 Oct 2024) EllapsedTime: 169.8 seconds RetCode: 0 Status: OK PackageFile: cleanUpdTSeq_1.42.0.tgz PackageFileSize: 5.545 MiB