Package: cleanUpdTSeq Version: 1.42.0 Command: /Library/Frameworks/R.framework/Resources/bin/R CMD build --keep-empty-dirs --no-resave-data cleanUpdTSeq StartedAt: 2024-06-09 16:11:53 -0400 (Sun, 09 Jun 2024) EndedAt: 2024-06-09 16:13:30 -0400 (Sun, 09 Jun 2024) EllapsedTime: 97.4 seconds RetCode: 0 Status: OK PackageFile: cleanUpdTSeq_1.42.0.tar.gz PackageFileSize: 4.008 MiB