Package: cleanUpdTSeq Version: 1.42.0 Command: /Library/Frameworks/R.framework/Resources/bin/R CMD INSTALL cleanUpdTSeq StartedAt: 2024-06-09 15:56:43 -0400 (Sun, 09 Jun 2024) EndedAt: 2024-06-09 15:59:09 -0400 (Sun, 09 Jun 2024) EllapsedTime: 145.9 seconds RetCode: 0 Status: OK