Package: cisPath Version: 1.44.0 Command: chmod a+r cisPath -R && E:\biocbuild\bbs-3.19-bioc\R\bin\R.exe CMD build --keep-empty-dirs --no-resave-data cisPath StartedAt: 2024-10-16 18:13:28 -0400 (Wed, 16 Oct 2024) EndedAt: 2024-10-16 18:14:20 -0400 (Wed, 16 Oct 2024) EllapsedTime: 51.6 seconds RetCode: 0 Status: OK PackageFile: cisPath_1.44.0.tar.gz PackageFileSize: 935.6 KiB