Package: cisPath Version: 1.44.0 Command: chmod a+r cisPath -R && F:\biocbuild\bbs-3.19-bioc\R\bin\R.exe CMD build --keep-empty-dirs --no-resave-data cisPath StartedAt: 2024-06-26 17:49:13 -0400 (Wed, 26 Jun 2024) EndedAt: 2024-06-26 17:49:45 -0400 (Wed, 26 Jun 2024) EllapsedTime: 32.2 seconds RetCode: 0 Status: OK PackageFile: cisPath_1.44.0.tar.gz PackageFileSize: 934.7 KiB