Package: cisPath Version: 1.44.0 Command: rm -rf cisPath.buildbin-libdir && mkdir cisPath.buildbin-libdir && F:\biocbuild\bbs-3.19-bioc\R\bin\R.exe CMD INSTALL --build --library=cisPath.buildbin-libdir cisPath_1.44.0.tar.gz StartedAt: 2024-06-27 07:59:54 -0400 (Thu, 27 Jun 2024) EndedAt: 2024-06-27 08:00:14 -0400 (Thu, 27 Jun 2024) EllapsedTime: 20.1 seconds RetCode: 0 Status: OK PackageFile: cisPath_1.44.0.zip PackageFileSize: 1.249 MiB