Package: cisPath Version: 1.44.0 Command: /home/biocbuild/bbs-3.19-bioc/R/bin/R CMD build --keep-empty-dirs --no-resave-data cisPath StartedAt: 2024-10-16 17:46:52 -0400 (Wed, 16 Oct 2024) EndedAt: 2024-10-16 17:47:07 -0400 (Wed, 16 Oct 2024) EllapsedTime: 15.0 seconds RetCode: 0 Status: OK PackageFile: cisPath_1.44.0.tar.gz PackageFileSize: 931.8 KiB