Package: cisPath Version: 1.44.0 Command: /Library/Frameworks/R.framework/Resources/bin/R CMD build --keep-empty-dirs --no-resave-data cisPath StartedAt: 2024-10-16 17:58:02 -0400 (Wed, 16 Oct 2024) EndedAt: 2024-10-16 17:58:52 -0400 (Wed, 16 Oct 2024) EllapsedTime: 50.0 seconds RetCode: 0 Status: OK PackageFile: cisPath_1.44.0.tar.gz PackageFileSize: 1.033 MiB