Package: cisPath Version: 1.44.0 Command: /home/biocbuild/R/R-beta-2024-04-15_r86425/bin/R CMD check --install=check:cisPath.install-out.txt --library=/home/biocbuild/R/R-beta-2024-04-15_r86425/site-library --no-vignettes --timings cisPath_1.44.0.tar.gz StartedAt: 2024-05-09 05:51:47 -0000 (Thu, 09 May 2024) EndedAt: 2024-05-09 05:52:05 -0000 (Thu, 09 May 2024) EllapsedTime: 18.0 seconds RetCode: 0 Status: WARNINGS CheckDir: cisPath.Rcheck Warnings: 1