Package: cisPath Version: 1.44.0 Command: /home/biocbuild/R/R-beta-2024-04-15_r86425/bin/R CMD build --keep-empty-dirs --no-resave-data cisPath StartedAt: 2024-05-08 23:19:13 -0000 (Wed, 08 May 2024) EndedAt: 2024-05-08 23:19:39 -0000 (Wed, 08 May 2024) EllapsedTime: 26.0 seconds RetCode: 0 Status: OK PackageFile: cisPath_1.44.0.tar.gz PackageFileSize: 1.028 MiB