Package: circRNAprofiler Version: 1.18.0 Command: E:\biocbuild\bbs-3.19-bioc\R\bin\R.exe CMD INSTALL circRNAprofiler StartedAt: 2024-10-16 17:06:39 -0400 (Wed, 16 Oct 2024) EndedAt: 2024-10-16 17:08:07 -0400 (Wed, 16 Oct 2024) EllapsedTime: 87.7 seconds RetCode: 0 Status: OK