Package: circRNAprofiler Version: 1.18.0 Command: chmod a+r circRNAprofiler -R && E:\biocbuild\bbs-3.19-bioc\R\bin\R.exe CMD build --keep-empty-dirs --no-resave-data circRNAprofiler StartedAt: 2024-10-16 18:13:17 -0400 (Wed, 16 Oct 2024) EndedAt: 2024-10-16 18:15:30 -0400 (Wed, 16 Oct 2024) EllapsedTime: 132.9 seconds RetCode: 0 Status: OK PackageFile: circRNAprofiler_1.18.0.tar.gz PackageFileSize: 3.491 MiB