Package: circRNAprofiler Version: 1.18.0 Command: rm -rf circRNAprofiler.buildbin-libdir && mkdir circRNAprofiler.buildbin-libdir && E:\biocbuild\bbs-3.19-bioc\R\bin\R.exe CMD INSTALL --build --library=circRNAprofiler.buildbin-libdir circRNAprofiler_1.18.0.tar.gz StartedAt: 2024-10-17 07:32:38 -0400 (Thu, 17 Oct 2024) EndedAt: 2024-10-17 07:34:41 -0400 (Thu, 17 Oct 2024) EllapsedTime: 122.9 seconds RetCode: 0 Status: OK PackageFile: circRNAprofiler_1.18.0.zip PackageFileSize: 3.35 MiB