Package: circRNAprofiler Version: 1.18.0 Command: /home/biocbuild/bbs-3.19-bioc/R/bin/R CMD INSTALL circRNAprofiler StartedAt: 2024-10-16 16:34:50 -0400 (Wed, 16 Oct 2024) EndedAt: 2024-10-16 16:35:38 -0400 (Wed, 16 Oct 2024) EllapsedTime: 48.0 seconds RetCode: 0 Status: OK