Package: circRNAprofiler Version: 1.18.0 Command: /home/biocbuild/bbs-3.19-bioc/R/bin/R CMD build --keep-empty-dirs --no-resave-data circRNAprofiler StartedAt: 2024-10-16 17:45:42 -0400 (Wed, 16 Oct 2024) EndedAt: 2024-10-16 17:46:59 -0400 (Wed, 16 Oct 2024) EllapsedTime: 77.1 seconds RetCode: 0 Status: OK PackageFile: circRNAprofiler_1.18.0.tar.gz PackageFileSize: 3.567 MiB