Package: circRNAprofiler Version: 1.18.0 Command: rm -rf circRNAprofiler.buildbin-libdir && mkdir circRNAprofiler.buildbin-libdir && /Users/biocbuild/BBS/utils/build-universal.sh circRNAprofiler_1.18.0.tar.gz /Library/Frameworks/R.framework/Resources/bin/R circRNAprofiler.buildbin-libdir StartedAt: 2024-10-17 15:51:37 -0400 (Thu, 17 Oct 2024) EndedAt: 2024-10-17 15:53:37 -0400 (Thu, 17 Oct 2024) EllapsedTime: 120.4 seconds RetCode: 0 Status: OK PackageFile: circRNAprofiler_1.18.0.tgz PackageFileSize: 3.552 MiB